BEGIN:VCALENDAR
VERSION:2.0
PRODID:-//NWBA - ECPv6.15.17.1//NONSGML v1.0//EN
CALSCALE:GREGORIAN
METHOD:PUBLISH
X-WR-CALNAME:NWBA
X-ORIGINAL-URL:https://nwbee.ca
X-WR-CALDESC:Events for NWBA
REFRESH-INTERVAL;VALUE=DURATION:PT1H
X-Robots-Tag:noindex
X-PUBLISHED-TTL:PT1H
BEGIN:VTIMEZONE
TZID:America/Vancouver
BEGIN:DAYLIGHT
TZOFFSETFROM:-0800
TZOFFSETTO:-0700
TZNAME:PDT
DTSTART:20200308T100000
END:DAYLIGHT
BEGIN:STANDARD
TZOFFSETFROM:-0700
TZOFFSETTO:-0800
TZNAME:PST
DTSTART:20201101T090000
END:STANDARD
BEGIN:DAYLIGHT
TZOFFSETFROM:-0800
TZOFFSETTO:-0700
TZNAME:PDT
DTSTART:20210314T100000
END:DAYLIGHT
BEGIN:STANDARD
TZOFFSETFROM:-0700
TZOFFSETTO:-0800
TZNAME:PST
DTSTART:20211107T090000
END:STANDARD
BEGIN:DAYLIGHT
TZOFFSETFROM:-0800
TZOFFSETTO:-0700
TZNAME:PDT
DTSTART:20220313T100000
END:DAYLIGHT
BEGIN:STANDARD
TZOFFSETFROM:-0700
TZOFFSETTO:-0800
TZNAME:PST
DTSTART:20221106T090000
END:STANDARD
END:VTIMEZONE
BEGIN:VEVENT
DTSTART;TZID=America/Vancouver:20210305T080000
DTEND;TZID=America/Vancouver:20210305T170000
DTSTAMP:20260423T143830
CREATED:20210305T192317Z
LAST-MODIFIED:20210305T192355Z
UID:817-1614931200-1614963600@nwbee.ca
SUMMARY:Pouring Packages
DESCRIPTION:Meet at 10 am to pour four packages in the Queen’s Park yard.  See photo in the 2021 picture album. \nWe met and poured four packages.  Pretty windy and cold\, so each package was brought out of the truck cab one of the time.  All went well.  The overwintered colony was fed about 50ml of 1:1 syrup to hold off starvation until they warm up enough to eat the frame of honey we gave them on the weekend.  Four days from now\, we will release the package queens and check the overwintered colony to ensure they are eating their pollen patty and honey.
URL:https://nwbee.ca/event/pouring-packages/
LOCATION:British Columbia
END:VEVENT
BEGIN:VEVENT
DTSTART;TZID=America/Vancouver:20210304T180000
DTEND;TZID=America/Vancouver:20210304T190000
DTSTAMP:20260423T143830
CREATED:20210302T041129Z
LAST-MODIFIED:20210305T192014Z
UID:767-1614880800-1614884400@nwbee.ca
SUMMARY:Package Bee Pickup at Honeybee Centre
DESCRIPTION:Pick up your package bees at Honeybee Centre Thursday\, March 4\, at 6 pm. \nTour of the facility open to everyone who attends. \nPackages picked up and tour provided.  We are going to meet at the Queen’s Park yard to pour four club packages in the morning.
URL:https://nwbee.ca/event/package-bee-pickup-at-honeybee-centre/
LOCATION:Honeybee Centre\, 7480 176 Street\, Surrey\, British Columbia\, V3S 7B1\, Canada
END:VEVENT
BEGIN:VEVENT
DTSTART;TZID=America/Vancouver:20210227T100000
DTEND;TZID=America/Vancouver:20210227T120000
DTSTAMP:20260423T143830
CREATED:20210225T160314Z
LAST-MODIFIED:20210303T041851Z
UID:706-1614420000-1614427200@nwbee.ca
SUMMARY:Assessing Overwintered Colonies
DESCRIPTION:Join us for the first field day of the year! \nWe will be assessing overwintered colonies and fixing those that need it. \nCheck out “Module 1 – Management of Overwintered Colonies” in the Education section of the website. \n\nClose to 15 people attended.  Discussion with handouts on how to assess an overwintered colony.  Discussion with handout on the bee sting and how to test for and how to treat an anaphylactic reaction.  Field work: assessed over-wintered colonies: of the 8 colonies\, only one survived (#13). Queen failure seemed to be the cause of most colony deaths\, with suggestion of starvation and stress in two of the colonies. Four brood chambers prepped to receive packages this Thursday.  Anna C.
URL:https://nwbee.ca/event/assessing-overwintered-colonies/
LOCATION:Queens Park\, Queens Park Tennis Courts\, New Westminster\, British Columbia\, V3M 1V2\, Canada
END:VEVENT
END:VCALENDAR